BEGIN:VCALENDAR
VERSION:2.0
PRODID:-//Eagle Race - ECPv6.15.11//NONSGML v1.0//EN
CALSCALE:GREGORIAN
METHOD:PUBLISH
X-ORIGINAL-URL:https://eagle-race.com
X-WR-CALDESC:Évènements pour Eagle Race
REFRESH-INTERVAL;VALUE=DURATION:PT1H
X-Robots-Tag:noindex
X-PUBLISHED-TTL:PT1H
BEGIN:VTIMEZONE
TZID:Europe/Madrid
BEGIN:DAYLIGHT
TZOFFSETFROM:+0100
TZOFFSETTO:+0200
TZNAME:CEST
DTSTART:20240331T010000
END:DAYLIGHT
BEGIN:STANDARD
TZOFFSETFROM:+0200
TZOFFSETTO:+0100
TZNAME:CET
DTSTART:20241027T010000
END:STANDARD
BEGIN:DAYLIGHT
TZOFFSETFROM:+0100
TZOFFSETTO:+0200
TZNAME:CEST
DTSTART:20250330T010000
END:DAYLIGHT
BEGIN:STANDARD
TZOFFSETFROM:+0200
TZOFFSETTO:+0100
TZNAME:CET
DTSTART:20251026T010000
END:STANDARD
BEGIN:DAYLIGHT
TZOFFSETFROM:+0100
TZOFFSETTO:+0200
TZNAME:CEST
DTSTART:20260329T010000
END:DAYLIGHT
BEGIN:STANDARD
TZOFFSETFROM:+0200
TZOFFSETTO:+0100
TZNAME:CET
DTSTART:20261025T010000
END:STANDARD
END:VTIMEZONE
BEGIN:VEVENT
DTSTART;TZID=Europe/Madrid:20251004T080000
DTEND;TZID=Europe/Madrid:20251005T170000
DTSTAMP:20260423T135030
CREATED:20250906T230449Z
LAST-MODIFIED:20250907T115046Z
UID:316-1759564800-1759683600@eagle-race.com
SUMMARY:Eagle Race Challenge 2025
DESCRIPTION:Vivez une expérience unique avec Eagle Race\, le tournoi de Speed Pitch & Putt qui réinvente le golf ! \nEn 30 minutes seulement\, relevez le défi : précision\, vitesse et adrénaline s’allient pour offrir une compétition accessible à tous — du néophyte au joueur confirmé. \nParticipez entre amis\, en famille ou en solo\, et découvrez une nouvelle manière de jouer au golf : plus rapide\, plus fun\, plus moderne. \n\n\n\n\n\n\n\n\n\n\n\n\n\n\n\n\n\n\nEn savoir plus
URL:https://eagle-race.com/evenements/eagle-race-challenge-2025/
LOCATION:Barcelone
ATTACH;FMTTYPE=image/jpeg:https://eagle-race.com/wp-content/uploads/2025/09/pexels-jopwell-1325681.jpg
END:VEVENT
BEGIN:VEVENT
DTSTART;TZID=Europe/Madrid:20250906T080000
DTEND;TZID=Europe/Madrid:20250912T170000
DTSTAMP:20260423T135030
CREATED:20250907T172708Z
LAST-MODIFIED:20250907T172708Z
UID:364-1757145600-1757696400@eagle-race.com
SUMMARY:The eagles of Llavaneras
DESCRIPTION:Venez vivre une étape exceptionnelle du Speed Pitch & Putt sur le prestigieux parcours de Llavaneras. \nUn tournoi où les meilleurs joueurs s’affrontent dans une atmosphère unique\, combinant esprit de compétition\, convivialité et passion du golf. Préparez-vous à une journée rythmée par la vitesse\, la précision et l’adrénaline.
URL:https://eagle-race.com/evenements/the-eagles-of-llavaneras/
LOCATION:Llavaneras\, Camí Golf\, 49-51\, Sant Andreu de Llavaneres\, Barcelone\, 08392
ATTACH;FMTTYPE=image/jpeg:https://eagle-race.com/wp-content/uploads/2025/09/2024-08-03.jpg
END:VEVENT
BEGIN:VEVENT
DTSTART;TZID=Europe/Madrid:20250830T080000
DTEND;TZID=Europe/Madrid:20250831T170000
DTSTAMP:20260423T135030
CREATED:20250907T171923Z
LAST-MODIFIED:20250907T171923Z
UID:360-1756540800-1756659600@eagle-race.com
SUMMARY:Vallromanes Super race
DESCRIPTION:Plongez dans l’univers du Speed Pitch & Putt avec la Vallromanes Super Race ! \nUn tournoi intense où vitesse\, précision et esprit sportif se rencontrent\, dans une ambiance conviviale et accessible à tous. \nRelevez le défi et vivez une expérience unique sur un parcours pensé pour l’adrénaline.
URL:https://eagle-race.com/evenements/vallromanes-super-race/
LOCATION:Vallromanes\, Passeig de la Torre Tavernera\, s/n\,\, Vallromanes\, Barcelone\, 08188\, Spain
ATTACH;FMTTYPE=image/jpeg:https://eagle-race.com/wp-content/uploads/2025/09/2022-03-23.jpg
END:VEVENT
END:VCALENDAR